{
 "currentVersion": 10.61,
 "serviceDescription": "This normalized digital surface model (nDSM) was part of a suite of datasets produced during a forest inventory enhancement research project, funded by the Environment and Natural Resources Trust Fund in 2016. The nDSM was produced at 1-m spatial resolution using high density lidar point cloud LAS files and USFS FUSION software. The source lidar was collected in October 2017 using single photon lidar (SPL; green laser) by Quantum Spatial Inc (QSI). There were on average 27.8 points per square meter. An nDSM is a height above ground model, where every pixel represents the elevation of the highest lidar return among all lidar returns within the grid cell. The production of the nDSM involved two basic steps: 1) filtering ground returns (i.e., points that sit on top of the bare-earth) to create a ground surface model, and 2) subtracting the ground elevations from all other above ground lidar return elevations. Any elevation values less than zero and above 50-m were not included. The information displayed here, summarizing the above ground height of a pixel, is even more useful with the picture. Accompanied by this lidar was four band aerial photography, also available by Web Mapping Service on the Minnesota Geospatial Commons. Having both height and visual information available, analysts and managers can strategically plan with data-driven results",
 "mapName": "Layers",
 "description": "",
 "copyrightText": "",
 "supportsDynamicLayers": true,
 "layers": [
  {
   "id": 0,
   "name": "cached data",
   "parentLayerId": -1,
   "defaultVisibility": false,
   "subLayerIds": null,
   "minScale": 0,
   "maxScale": 0
  }
 ],
 "tables": [],
 "spatialReference": {
  "wkid": 26915,
  "latestWkid": 26915
 },
 "singleFusedMapCache": true,
 "tileInfo": {
  "rows": 256,
  "cols": 256,
  "dpi": 96,
  "format": "MIXED",
  "compressionQuality": 75,
  "origin": {
   "x": -5120900,
   "y": 9998100
  },
  "spatialReference": {
   "wkid": 26915,
   "latestWkid": 26915
  },
  "lods": [
   {
    "level": 0,
    "resolution": 2116.670900008467,
    "scale": 8000000
   },
   {
    "level": 1,
    "resolution": 1058.3354500042335,
    "scale": 4000000
   },
   {
    "level": 2,
    "resolution": 529.1677250021168,
    "scale": 2000000
   },
   {
    "level": 3,
    "resolution": 264.5838625010584,
    "scale": 1000000
   },
   {
    "level": 4,
    "resolution": 132.2919312505292,
    "scale": 500000
   },
   {
    "level": 5,
    "resolution": 66.1459656252646,
    "scale": 250000
   },
   {
    "level": 6,
    "resolution": 33.0729828126323,
    "scale": 125000
   },
   {
    "level": 7,
    "resolution": 16.933367200067735,
    "scale": 64000
   },
   {
    "level": 8,
    "resolution": 8.466683600033868,
    "scale": 32000
   },
   {
    "level": 9,
    "resolution": 4.233341800016934,
    "scale": 16000
   },
   {
    "level": 10,
    "resolution": 2.116670900008467,
    "scale": 8000
   },
   {
    "level": 11,
    "resolution": 1.0583354500042335,
    "scale": 4000
   },
   {
    "level": 12,
    "resolution": 0.5291677250021167,
    "scale": 2000
   },
   {
    "level": 13,
    "resolution": 0.26458386250105836,
    "scale": 1000
   },
   {
    "level": 14,
    "resolution": 0.13229193125052918,
    "scale": 500
   }
  ]
 },
 "initialExtent": {
  "xmin": -11959.083622540813,
  "ymin": 5106453.787470551,
  "xmax": 334759.2766790015,
  "ymax": 5506983.815684855,
  "spatialReference": {
   "wkid": 26915,
   "latestWkid": 26915
  }
 },
 "fullExtent": {
  "xmin": 190012.2422000002,
  "ymin": 4816648.7378,
  "xmax": 762254.4779000003,
  "ymax": 5472427.737,
  "spatialReference": {
   "wkid": 26915,
   "latestWkid": 26915
  }
 },
 "minScale": 8000000,
 "maxScale": 2000,
 "units": "esriMeters",
 "supportedImageFormatTypes": "PNG32,PNG24,PNG,JPG,DIB,TIFF,EMF,PS,PDF,GIF,SVG,SVGZ,BMP",
 "documentInfo": {
  "Title": "",
  "Author": "",
  "Comments": "This normalized digital surface model (nDSM) was part of a suite of datasets produced during a forest inventory enhancement research project, funded by the Environment and Natural Resources Trust Fund in 2016. The nDSM was produced at 1-m spatial resolution using high density lidar point cloud LAS files and USFS FUSION software. The source lidar was collected in October 2017 using single photon lidar (SPL; green laser) by Quantum Spatial Inc (QSI). There were on average 27.8 points per square meter. An nDSM is a height above ground model, where every pixel represents the elevation of the highest lidar return among all lidar returns within the grid cell. The production of the nDSM involved two basic steps: 1) filtering ground returns (i.e., points that sit on top of the bare-earth) to create a ground surface model, and 2) subtracting the ground elevations from all other above ground lidar return elevations. Any elevation values less than zero and above 50-m were not included. The information displayed here, summarizing the above ground height of a pixel, is even more useful with the picture. Accompanied by this lidar was four band aerial photography, also available by Web Mapping Service on the Minnesota Geospatial Commons. Having both height and visual information available, analysts and managers can strategically plan with data-driven results",
  "Subject": "Normalized Digital Surface Model (nDSM) of part of Cass County",
  "Category": "",
  "AntialiasingMode": "None",
  "TextAntialiasingMode": "Force",
  "Keywords": "cass,surface,model,ndsm"
 },
 "capabilities": "Map",
 "supportedQueryFormats": "JSON, AMF, geoJSON",
 "exportTilesAllowed": false,
 "supportsDatumTransformation": true,
 "maxRecordCount": 1000,
 "maxImageHeight": 4096,
 "maxImageWidth": 4096,
 "supportedExtensions": ""
}
