{
 "currentVersion": 10.81,
 "serviceDescription": "2 foot contours derived from Lidar data",
 "mapName": "Layers",
 "description": "",
 "copyrightText": "",
 "supportsDynamicLayers": false,
 "layers": [
  {
   "id": 0,
   "name": "lidar contours",
   "parentLayerId": -1,
   "defaultVisibility": true,
   "subLayerIds": null,
   "minScale": 0,
   "maxScale": 0,
   "type": "Feature Layer",
   "geometryType": "esriGeometryPolygon"
  }
 ],
 "tables": [],
 "spatialReference": {
  "wkid": 102100,
  "latestWkid": 3857
 },
 "singleFusedMapCache": true,
 "tileInfo": {
  "rows": 256,
  "cols": 256,
  "dpi": 96,
  "format": "PNG",
  "compressionQuality": 0,
  "origin": {
   "x": -20037700,
   "y": 30241100
  },
  "spatialReference": {
   "wkid": 102100,
   "latestWkid": 3857
  },
  "lods": [
   {
    "level": 0,
    "resolution": 4.777061637456608,
    "scale": 18055
   },
   {
    "level": 1,
    "resolution": 2.3883985267970536,
    "scale": 9027
   },
   {
    "level": 2,
    "resolution": 1.1940669714672763,
    "scale": 4513
   },
   {
    "level": 3,
    "resolution": 0.5969011938023876,
    "scale": 2256
   }
  ]
 },
 "initialExtent": {
  "xmin": -1.0389586314263143E7,
  "ymin": 5852822.730934033,
  "xmax": -1.0385376143864343E7,
  "ymax": 5854537.973447271,
  "spatialReference": {
   "cs": "pcs",
   "wkid": 102100
  }
 },
 "fullExtent": {
  "xmin": -1.0827670903837461E7,
  "ymin": 5378967.450430877,
  "xmax": -9950725.766452422,
  "ymax": 6343785.053823385,
  "spatialReference": {
   "cs": "pcs",
   "wkid": 102100
  }
 },
 "minScale": 18055,
 "maxScale": 2256,
 "units": "esriMeters",
 "supportedImageFormatTypes": "PNG32,PNG24,PNG,JPG,DIB,TIFF,EMF,PS,PDF,GIF,SVG,SVGZ,BMP",
 "documentInfo": {
  "Title": "",
  "Author": "",
  "Comments": " Governor Mark Dayton's landmark buffer initiative was signed into law this year. The law establishes new perennial vegetation buffers of up to 50 feet along rivers, streams, and ditches that will help filter out phosphorus, nitrogen, and sediment. The new law provides flexibility and financial support for landowners to install and maintain buffers. The DNR's role in Minnesota's new buffer law is to produce maps of public waters and ditch systems that require permanent vegetation buffers. The DNR is scheduled to produce these maps by July 2016.Phase I Fall 2015 The DNR will use existing digital data to identify public waters that require a buffer. ",
  "Subject": "DNR Buffer Protection Map (cached data)",
  "Category": "",
  "AntialiasingMode": "None",
  "TextAntialiasingMode": "Force",
  "Keywords": "lidar,contours"
 },
 "capabilities": "Map",
 "supportedQueryFormats": "JSON, geoJSON",
 "exportTilesAllowed": false,
 "referenceScale": 0,
 "datumTransformations": [
  {
   "geoTransforms": [
    {
     "wkid": 108190,
     "latestWkid": 108190,
     "transformForward": false,
     "name": "WGS_1984_(ITRF00)_To_NAD_1983"
    }
   ]
  },
  {
   "geoTransforms": [
    {
     "wkid": 108190,
     "latestWkid": 108190,
     "transformForward": true,
     "name": "WGS_1984_(ITRF00)_To_NAD_1983"
    }
   ]
  }
 ],
 "supportsDatumTransformation": true,
 "maxRecordCount": 1000,
 "maxImageHeight": 4096,
 "maxImageWidth": 4096,
 "supportedExtensions": "",
 "resampling": false
}
