View In:
ArcGIS JavaScript
ArcGIS Online Map Viewer
ArcGIS Earth
ArcMap
ArcGIS Pro
View Footprint In:
ArcGIS Online Map Viewer
Service Description: Governor Mark Dayton's landmark buffer initiative was signed into law this year. The law establishes new perennial vegetation buffers of up to 50 feet along rivers, streams, and ditches that will help filter out phosphorus, nitrogen, and sediment. The new law provides flexibility and financial support for landowners to install and maintain buffers. The DNR's role in Minnesota's new buffer law is to produce maps of public waters and ditch systems that require permanent vegetation buffers. The DNR is scheduled to produce these maps by July 2016.Phase I Fall 2015 The DNR will use existing digital data to identify public waters that require a buffer.
Map Name: Layers
Legend
All Layers and Tables
Layers:
Description:
Copyright Text:
Spatial Reference:
102100
(3857)
Single Fused Map Cache: true
Tile Info:
- Height: 256
- Width: 256
- DPI: 96
-
Levels of Detail: 13
-
Level ID: 0
[ Start Tile, End Tile ]
- Resolution: 4891.96981024998
- Scale: 1.8489297737236E7
- Format: MIXED
- Compression Quality: 75.0
- Origin: X: -2.0037508342787E7
Y: 2.0037508342787E7
- Spatial Reference: 102100
(3857)
Initial Extent:
XMin: -1.250533942200528E7
YMin: 5392708.649831241
XMax: -8274387.343690378
YMax: 7170334.86295803
Spatial Reference: 102100
Full Extent:
XMin: -1.0827670903837461E7
YMin: 5378967.450430877
XMax: -9950725.766452422
YMax: 6343785.053823385
Spatial Reference: 102100
Units: esriMeters
Supported Image Format Types: PNG32,PNG24,PNG,JPG,DIB,TIFF,EMF,PS,PDF,GIF,SVG,SVGZ,BMP
Document Info:
Title:
Author:
Comments:
Subject:
Category:
Keywords: dnr,buffer,protection,water
AntialiasingMode: None
TextAntialiasingMode: Force
Supports Dynamic Layers: false
Resampling: false
MaxRecordCount: 1000
MaxImageHeight: 4096
MaxImageWidth: 4096
Supported Query Formats: JSON, geoJSON
Supports Query Data Elements:
Min Scale: 1.8489297737236E7
Max Scale: 4513.988705
Supports Datum Transformation: true
Child Resources:
Info
Supported Operations:
Export Map
Return Updates