View In:
ArcGIS JavaScript
ArcGIS Online Map Viewer
ArcGIS Earth
Service Description: for/LakeBemidji_mosaic
Name: for/LakeBemidji_mosaic
Description:
Single Fused Map Cache: false
Extent:
XMin: 361834.0568589636
YMin: 5261211.766358982
XMax: 365300.37185035023
YMax: 5264364.339002989
Spatial Reference: 26915
(26915)
LatestVCSWkid(0)
Initial Extent:
XMin: 361834.0568589636
YMin: 5261211.766358982
XMax: 365300.37185035023
YMax: 5264364.339002989
Spatial Reference: 26915
(26915)
LatestVCSWkid(0)
Full Extent:
XMin: 361834.0568589636
YMin: 5261211.766358982
XMax: 365300.37185035023
YMax: 5264364.339002989
Spatial Reference: 26915
(26915)
LatestVCSWkid(0)
Pixel Size X: 0.10689265423049855
Pixel Size Y: 0.10793894080211566
Band Count: 4
Pixel Type: U8
RasterFunction Infos: {"rasterFunctionInfos": [{
"name": "None",
"description": "",
"help": ""
}]}
Mensuration Capabilities: Basic
Inspection Capabilities:
Has Histograms: true
Has Colormap: false
Has Multi Dimensions : false
Rendering Rule:
Min Scale: 0
Max Scale: 0
Copyright Text:
Service Data Type: esriImageServiceDataTypeGeneric
Min Values: 1, 1, 1, 1
Max Values: 255, 255, 255, 255
Mean Values: 52.204435292032, 80.567396271394, 76.304176641907, 56.624850218174
Standard Deviation Values: 36.460779782092, 30.818351794903, 19.773048213512, 34.03762180525
Object ID Field:
Fields:
None
Default Mosaic Method: Center
Allowed Mosaic Methods:
SortField:
SortValue: null
Mosaic Operator: First
Default Compression Quality: 75
Default Resampling Method: Bilinear
Max Record Count: null
Max Image Height: 4100
Max Image Width: 15000
Max Download Image Count: null
Max Mosaic Image Count: null
Allow Raster Function: true
Allow Copy: true
Allow Analysis: true
Allow Compute TiePoints: false
Supports Statistics: false
Supports Advanced Queries: false
Use StandardizedQueries: true
Raster Type Infos:
Name: Raster Dataset
Description: Supports all ArcGIS Raster Datasets
Help:
Has Raster Attribute Table: false
Edit Fields Info: null
Ownership Based AccessControl For Rasters: null
Child Resources:
Info
Histograms
Statistics
Key Properties
Legend
Raster Function Infos
Supported Operations:
Export Image
Identify
Measure
Compute Histograms
Compute Statistics Histograms
Get Samples
Compute Class Statistics
Query Boundary
Compute Pixel Location
Compute Angles
Validate
Project