View In:
ArcGIS JavaScript
ArcGIS Online Map Viewer
ArcGIS Earth
ArcMap
ArcGIS Pro
View Footprint In:
ArcGIS Online Map Viewer
Service Description: This dataset contains leaf-on 4-band red, green, blue, infrared (RGBI) digital orthophoto imagery produced at 50 centimeter resolution from new aerial photography captured in Fall 2019. The imagery covers all of Aitkin, Anoka, Benton, Carlton, Chisago, Isanti, Kanabec, Mille Lacs, Pine, and Sherburne Counties during the peak fall color season
Map Name: Layers
Legend
All Layers and Tables
Layers:
Description: This dataset contains leaf-on 4-band red, green, blue, infrared (RGBI) digital orthophoto imagery produced at 50 centimeter resolution from new aerial photography captured in Fall 2019. The imagery covers all of Aitkin, Anoka, Benton, Carlton, Chisago, Isanti, Kanabec, Mille Lacs, Pine, and Sherburne Counties during the peak fall color season
Copyright Text:
Spatial Reference:
102100
(3857)
Single Fused Map Cache: true
Tile Info:
- Height: 256
- Width: 256
- DPI: 96
-
Levels of Detail: 24
-
Level ID: 1
[ Start Tile, End Tile ]
- Resolution: 78271.5169639999
- Scale: 2.95828763795777E8
-
Level ID: 2
[ Start Tile, End Tile ]
- Resolution: 39135.7584820001
- Scale: 1.47914381897889E8
-
Level ID: 3
[ Start Tile, End Tile ]
- Resolution: 19567.8792409999
- Scale: 7.3957190948944E7
-
Level ID: 4
[ Start Tile, End Tile ]
- Resolution: 9783.93962049996
- Scale: 3.6978595474472E7
-
Level ID: 5
[ Start Tile, End Tile ]
- Resolution: 4891.96981024998
- Scale: 1.8489297737236E7
- Format: Mixed
- Compression Quality: 75.0
- Origin: X: -2.0037508342787E7
Y: 2.0037508342787E7
- Spatial Reference: 102100
(3857)
Initial Extent:
XMin: -1.1877239252462242E7
YMin: 4963610.074617188
XMax: -8904492.309241746
YMax: 7656777.245796708
Spatial Reference: 102100
Full Extent:
XMin: -1.0827670903837461E7
YMin: 5378967.450430877
XMax: -9950725.766452422
YMax: 6343785.053823385
Spatial Reference: 102100
Units: esriMeters
Supported Image Format Types: PNG32,PNG24,PNG,JPG,DIB,TIFF,EMF,PS,PDF,GIF,SVG,SVGZ,BMP
Document Info:
Title: Untitled.aprx
Author:
Comments: This dataset contains leaf-on 4-band red, green, blue, infrared (RGBI) digital orthophoto imagery produced at 50 centimeter resolution from new aerial photography captured in Fall 2019. The imagery covers all of Aitkin, Anoka, Benton, Carlton, Chisago, Isanti, Kanabec, Mille Lacs, Pine, and Sherburne Counties during the peak fall color season
Subject: 2019 Fall East Central MN Imagery
Category:
Keywords: imagery,DNR
AntialiasingMode: None
TextAntialiasingMode: Force
Supports Dynamic Layers: false
Resampling: false
MaxRecordCount: 1000
MaxImageHeight: 4096
MaxImageWidth: 4096
Supported Query Formats: JSON, geoJSON, PBF
Supports Query Data Elements: true
Min Scale: 5.91657527591555E8
Max Scale: 2256.994353
Supports Datum Transformation: true
Child Resources:
Info
Supported Operations:
Export Map
Return Updates