View In:
ArcGIS JavaScript
ArcGIS Online Map Viewer
ArcGIS Earth
ArcMap
ArcGIS Pro
View Footprint In:
ArcGIS Online Map Viewer
Service Description: This imagery is the most current year 1-meter resolution 4-band NAIP web service for Minnesota, built from the county mosaics. Uncompressed NAIP digital ortho quarter quad tiles (DOQQs) will be available and used to build a more permenant service later in 2020
Map Name: Layers
Legend
All Layers and Tables
Dynamic Legend
Dynamic All Layers
Layers:
Description:
Copyright Text:
Spatial Reference:
102100
(3857)
Single Fused Map Cache: true
Tile Info:
- Height: 256
- Width: 256
- DPI: 96
-
Levels of Detail: 14
-
Level ID: 0
[ Start Tile, End Tile ]
- Resolution: 4891.96981024998
- Scale: 1.8489297737236E7
- Format: MIXED
- Compression Quality: 75.0
- Origin: X: -2.0037508342787E7
Y: 2.0037508342787E7
- Spatial Reference: 102100
(3857)
Initial Extent:
XMin: -1.1427724235378714E7
YMin: 5332881.603311912
XMax: -9322546.245676272
YMax: 6613837.237726064
Spatial Reference: 102100
Full Extent:
XMin: -1.0827670903837461E7
YMin: 5378967.450430877
XMax: -9950725.766452422
YMax: 6343785.053823385
Spatial Reference: 102100
Units: esriMeters
Supported Image Format Types: PNG32,PNG24,PNG,JPG,DIB,TIFF,EMF,PS,PDF,GIF,SVG,SVGZ,BMP
Document Info:
Title:
Author:
Comments: This imagery is the most current year 1-meter resolution 4-band NAIP web service for Minnesota, built from the county mosaics. Uncompressed NAIP digital ortho quarter quad tiles (DOQQs) will be available and used to build a more permenant service later in 2020
Subject: NAIP 2019 Color Infrared
Category:
Keywords: dnr,imagery,naip,aerial
AntialiasingMode: None
TextAntialiasingMode: Force
Supports Dynamic Layers: true
MaxRecordCount: 1000
MaxImageHeight: 4096
MaxImageWidth: 4096
Supported Query Formats: JSON, geoJSON
Supports Query Data Elements:
Min Scale: 1.8489297737236E7
Max Scale: 2256.994353
Supports Datum Transformation: true
Child Resources:
Info
Dynamic Layer
Supported Operations:
Export Map
Identify
QueryDomains
QueryLegends
Find
Return Updates